BEGIN:VCALENDAR
VERSION:2.0
PRODID:-//ExpressionEngine Easy iCalendar plugin//NONSGML v2.0.0//EN
X-WR-TIMEZONE:America/New_York
X-WR-CALNAME:Upcoming Auctions
BEGIN:VEVENT
UID:41932
DTSTAMP:20190903T132400
DTSTART:20190903T132400
DTEND:20190911T200000
SUMMARY:Wholesale Estate
LOCATION:14 7 Springs Ln\, Fort Defiance\, VA 24437\, US
DESCRIPTION:LOCATION: 14 7 Seven Springs Ln\, Fort Defiance\, Va Removal D
 eadline: Wednesday\, September 18 @ 8 PM Preview: Contact Man
 ager listed below for access Manager: Ben Yoder\, ben@enliste
 dauctions.com\, 540-337-3446 (ex. 5)
URL:https://www.enlistedauctions.com/auctions/detail/wholesale-e
 state-bw41932
SEQUENCE:1
END:VEVENT
END:VCALENDAR