BEGIN:VCALENDAR
VERSION:2.0
PRODID:-//ExpressionEngine Easy iCalendar plugin//NONSGML v2.0.1//EN
X-WR-TIMEZONE:America/New_York
X-WR-CALNAME:Upcoming Auctions
BEGIN:VEVENT
UID:49019
DTSTAMP:20200403T082700
DTSTART:20200403T082700
DTEND:20200413T200000
SUMMARY:Tinkling Spring Gallery | Estate Auction
LOCATION:2177 Tinkling Spring Rd\, P/U: 4/14 By Appointment\, Stuarts D
 raft\, VA 24477\, US
DESCRIPTION:LOCATION: 2177 Tinkling Spring Rd\, Stuarts Draft\, Va 24477 
 PREVIEW: Any Monday from 2 PM to 6 PM or any Tuesday from
  8 AM to 11 AM or 2 PM to 6 PM. PICKUP: By Appointment on 
 Tuesday\, April 7 from 8 AM to 11 AM or 2 PM to 6 PM  Con
 tact: Office\, (540) 337-3446\, info@enlistedauctions.com
URL:https://www.enlistedauctions.com/auctions/detail/tinkling-sp
 ring-gallery-estate-auction-bw49019
SEQUENCE:1
END:VEVENT
END:VCALENDAR