BEGIN:VCALENDAR
VERSION:2.0
PRODID:-//ExpressionEngine Easy iCalendar plugin//NONSGML v2.0.0//EN
X-WR-TIMEZONE:America/New_York
X-WR-CALNAME:Upcoming Auctions
BEGIN:VEVENT
UID:33130
DTSTAMP:20181029T000000
DTSTART:20181029T000000
DTEND:20181102T201500
SUMMARY:Home and Shop Cleanout
LOCATION:550 Wheatlan Dr\, Lexington\, VA 24450\, US
DESCRIPTION:Location: 550 Wheatlan Dr\, Lexington\, VA 24450 Preview: Cont
 act Manager listed below for access Manager: Ben Yoder\, ben@
 enlistedauctions.com\, 540-337-3446
URL:https://www.enlistedauctions.com/auctions/detail/home-and-sh
 op-cleanout-bw33130
SEQUENCE:1
END:VEVENT
END:VCALENDAR