BEGIN:VCALENDAR
VERSION:2.0
PRODID:-//ExpressionEngine Easy iCalendar plugin//NONSGML v2.0.0//EN
X-WR-TIMEZONE:America/New_York
X-WR-CALNAME:Upcoming Auctions
BEGIN:VEVENT
UID:49240
DTSTAMP:20200413T000000
DTSTART:20200413T000000
DTEND:20200421T194500
SUMMARY:Hidden Treasures Gallery
LOCATION:1210 Cold Springs Rd\, P/U: 4/22 By Apointment\, Stuarts Draft
 \, VA 24477\, US
DESCRIPTION:LOCATION: 1210 Cold Springs Rd\, Stuarts Draft\, Va\, 24477 PRE
 VIEW: Any Tuesday from 2 PM to 6 PM or any Wednesday from 8 
 AM to 11 AM or 2 PM to 6 PM | PICKUP: By scheduled appointme
 nts on Wednesday\, April 22 from 8 AM to 11 AM or 2 PM to 6 P
 M | CONTACT: Office (540) 337-3446\, info@enlistedauctions.co
 m
URL:https://www.enlistedauctions.com/auctions/detail/hidden-trea
 sures-gallery-bw49240
SEQUENCE:1
END:VEVENT
END:VCALENDAR