BEGIN:VCALENDAR
VERSION:2.0
PRODID:-//ExpressionEngine Easy iCalendar plugin//NONSGML v2.0.1//EN
X-WR-TIMEZONE:America/New_York
X-WR-CALNAME:Upcoming Auctions
BEGIN:VEVENT
UID:33107
DTSTAMP:20181029T000000
DTSTART:20181029T000000
DTEND:20181106T194500
SUMMARY:Hidden Treasure Gallery
LOCATION:1210 Cold Springs Rd\, Pickup:11/7 8-10 AM 3-6 PM\, Stuarts Dr
 aft\, VA 24477\, US
DESCRIPTION:LOCATION: 1210 Cold Springs Rd\, Stuarts Draft\, Va\, 24477 PRE
 VIEW: Any Tuesday from 4 PM to 6 PM or any Wednesday from 8 
 AM to 10 AM or 3 PM to 6 PM. PICKUP: Wednesday\, November 7 
 from 8 AM to 10 AM or 3PM to 6 PM Manager: Kervin Yoder\, (54
 0) 337-3446\, kervin@enlistedauctions.com
URL:https://www.enlistedauctions.com/auctions/detail/hidden-trea
 sure-gallery-bw33107
SEQUENCE:1
END:VEVENT
END:VCALENDAR