BEGIN:VCALENDAR
VERSION:2.0
PRODID:-//ExpressionEngine Easy iCalendar plugin//NONSGML v2.0.0//EN
X-WR-TIMEZONE:America/New_York
X-WR-CALNAME:Upcoming Auctions
BEGIN:VEVENT
UID:44014
DTSTAMP:20191023T000000
DTSTART:20191023T000000
DTEND:20191105T193000
SUMMARY:Heaslip Estate Auction & More
LOCATION:1210 Cold Springs Rd\, P/U: 11/6 *8-10a & 3-6p\, Stuarts Draft
 \, VA 24477\, US
DESCRIPTION:LOCATION: 1210 Cold Springs Rd\, Stuarts Draft\, Va\, 24477 PRE
 VIEW: Any Tuesday from 4 PM to 6 PM or any Wednesday from 8 
 AM to 10 AM or 3 PM to 6 PM. PICKUP: Wednesday\, November 6 
 from 8 AM to 10 AM or 3 PM to 6 PM Manager: Kervin Yoder\, (5
 40) 337-3446\, kervin@enlistedauctions.com
URL:https://www.enlistedauctions.com/auctions/detail/heaslip-est
 ate-auction-more-bw44014
SEQUENCE:1
END:VEVENT
END:VCALENDAR