BEGIN:VCALENDAR
VERSION:2.0
PRODID:-//ExpressionEngine Easy iCalendar plugin//NONSGML v2.0.1//EN
X-WR-TIMEZONE:America/New_York
X-WR-CALNAME:Upcoming Auctions
BEGIN:VEVENT
UID:26906
DTSTAMP:20180514T000000
DTSTART:20180514T000000
DTEND:20180517T200000
SUMMARY:Entire Estate - Wholesale
LOCATION:210 Tuxedo Rd\, Buyer has 7 days to remove\, Staunton\, VA 2440
 1\, US
DESCRIPTION:Location: 210 Tuxedo Rd.\, Staunton\, VA 24401 Preview: Thur
 sday\, May 17 at 6 PM Pickup: Buyer has 7 days to completely
  remove all items. Dumpsters provided Manager: Ben Yoder\, 
 (540) 337-3446\, ben@enlistedauctions.com
URL:https://www.enlistedauctions.com/auctions/detail/entire-esta
 te-wholesale-bw26906
SEQUENCE:1
END:VEVENT
END:VCALENDAR