BEGIN:VCALENDAR
VERSION:2.0
PRODID:-//ExpressionEngine Easy iCalendar plugin//NONSGML v2.0.0//EN
X-WR-TIMEZONE:America/New_York
X-WR-CALNAME:Upcoming Auctions
BEGIN:VEVENT
UID:31391
DTSTAMP:20181003T150200
DTSTART:20181003T150200
DTEND:20181024T200000
SUMMARY:Corvettes\, Motorcycles\, Model T
LOCATION:1210 Cold Springs Rd\, Pickup: Oct. 25\, 9-11AM\, Stuarts Draft
 \, VA 24477\, US
DESCRIPTION:LOCATION: 1210 Cold Springs Rd\, Stuarts Draft\, Va\, 24477 PRE
 VIEW: Tuesday\, October 23 from 3 PM to 5 PM or by appointm
 ent PICKUP: Wednesday\, October 25 from 9 AM to 11 AM or by 
 appointment Manager: Kervin Yoder\, (540) 337-3446\, kervin@en
 listedauctions.com
URL:https://www.enlistedauctions.com/auctions/detail/corvettes-m
 otorcycles-model-t-bw31391
SEQUENCE:1
END:VEVENT
END:VCALENDAR