BEGIN:VCALENDAR
VERSION:2.0
PRODID:-//ExpressionEngine Easy iCalendar plugin//NONSGML v2.0.1//EN
X-WR-TIMEZONE:America/New_York
X-WR-CALNAME:Upcoming Auctions
BEGIN:VEVENT
UID:99995
DTSTAMP:20230426T000000
DTSTART:20230426T000000
DTEND:20230508T200000
SUMMARY:Tinkling Springs Gallery #118
LOCATION:2177 Tinkling Spring Rd\, P/U: 5/9 *8-10A & 3-6P\, Stuarts Dra
 ft\, VA 24477\, US
DESCRIPTION:Tools\, Storage Totes\, Star Wars Collectibles\, Wagon Wheels a
 nd more are all selling to the highest bidder.
URL:https://www.enlistedauctions.com/auctions/detail/bw99995
SEQUENCE:1
END:VEVENT
END:VCALENDAR