BEGIN:VCALENDAR
VERSION:2.0
PRODID:-//ExpressionEngine Easy iCalendar plugin//NONSGML v2.0.0//EN
X-WR-TIMEZONE:America/New_York
X-WR-CALNAME:Upcoming Auctions
BEGIN:VEVENT
UID:99827
DTSTAMP:20230424T000000
DTSTART:20230424T000000
DTEND:20230502T194500
SUMMARY:Hidden Treasures Gallery #3017
LOCATION:1210 Cold Springs Rd\, P/U: 5/3 *8-10a & 3-6p\, Stuarts Draft\,
  VA 24477\, US
DESCRIPTION:Tools from Grizzly\, Stihl and Dewalt. Coins\, Wine and more a
 re all up for auction!
URL:https://www.enlistedauctions.com/auctions/detail/bw99827
SEQUENCE:1
END:VEVENT
END:VCALENDAR