BEGIN:VCALENDAR
VERSION:2.0
PRODID:-//ExpressionEngine Easy iCalendar plugin//NONSGML v2.0.1//EN
X-WR-TIMEZONE:America/New_York
X-WR-CALNAME:Upcoming Auctions
BEGIN:VEVENT
UID:99564
DTSTAMP:20230418T000000
DTSTART:20230418T000000
DTEND:20230502T200000
SUMMARY:Cold Springs Gallery #2017
LOCATION:1210 Cold Springs Rd\, P/U: 5/3 *8-10a & 3-6p\, Stuarts Draft\,
  VA 24477\, US
DESCRIPTION:LOCATION: 1210 Cold Springs Rd\, Stuarts Draft\, Va\, 24477 PRE
 VIEW: Any Tuesday from 3 PM to 6 PM or any Wednesday from 8 
 AM to 10 AM or 3 PM to 6 PM PICKUP: Wednesday\, May 3\, from 8
  AM to 10 AM or 3 PM to 6 PM. CONTACT: Office (540) 337-3446
 \, info@enlistedauctions.com
URL:https://www.enlistedauctions.com/auctions/detail/bw99564
SEQUENCE:1
END:VEVENT
END:VCALENDAR