BEGIN:VCALENDAR
VERSION:2.0
PRODID:-//ExpressionEngine Easy iCalendar plugin//NONSGML v2.0.0//EN
X-WR-TIMEZONE:America/New_York
X-WR-CALNAME:Upcoming Auctions
BEGIN:VEVENT
UID:99084
DTSTAMP:20230513T130000
DTSTART:20230513T130000
DTEND:20230513T140000
SUMMARY:Modular Home: 3 bed\, 2 bath
LOCATION:49 Hornet Rd\, Fishersville\, VA 22939\, US
DESCRIPTION:Newly constructed 1\,680SF home up for auction! This home is 
 being built by the carpentry class at Valley Career and Tech
 nical Center and meets or exceeds all building codes and req
 uirements. Home will be sold LIVE on May 13\, 2023 at 1:00 PM
 . Online bidding is available.
URL:https://www.enlistedauctions.com/auctions/detail/bw99084
SEQUENCE:1
END:VEVENT
END:VCALENDAR