BEGIN:VCALENDAR
VERSION:2.0
PRODID:-//ExpressionEngine Easy iCalendar plugin//NONSGML v2.0.0//EN
X-WR-TIMEZONE:America/New_York
X-WR-CALNAME:Upcoming Auctions
BEGIN:VEVENT
UID:97840
DTSTAMP:20230316T000000
DTSTART:20230316T000000
DTEND:20230404T200000
SUMMARY:Collector Cars
LOCATION:1210 Cold Springs Rd\, Stuarts Draft\, VA 24477\, US
DESCRIPTION:Your garage will look better with any of these cars. Chevy N
 ova SS\, Dodge Viper or a Model T
URL:https://www.enlistedauctions.com/auctions/detail/bw97840
SEQUENCE:1
END:VEVENT
END:VCALENDAR