BEGIN:VCALENDAR
VERSION:2.0
PRODID:-//ExpressionEngine Easy iCalendar plugin//NONSGML v2.0.0//EN
X-WR-TIMEZONE:America/New_York
X-WR-CALNAME:Upcoming Auctions
BEGIN:VEVENT
UID:97387
DTSTAMP:20230308T000000
DTSTART:20230308T000000
DTEND:20230320T200000
SUMMARY:Tinkling Springs Gallery#111
LOCATION:2177 Tinkling Spring Rd\, P/U: 3/21 *8-10A & 3-6P\, Stuarts Dr
 aft\, VA 24477\, US
DESCRIPTION:Louis Vuitton Garment Bags\, Antique Furniture\, Oriental Vase
 s\, Pottery\, Collectibles\, Tools\, Original Art and more are a
 ll selling to the highest bidder!
URL:https://www.enlistedauctions.com/auctions/detail/bw97387
SEQUENCE:1
END:VEVENT
END:VCALENDAR