BEGIN:VCALENDAR
VERSION:2.0
PRODID:-//ExpressionEngine Easy iCalendar plugin//NONSGML v2.0.1//EN
X-WR-TIMEZONE:America/New_York
X-WR-CALNAME:Upcoming Auctions
BEGIN:VEVENT
UID:96415
DTSTAMP:20230217T000000
DTSTART:20230217T000000
DTEND:20230228T194500
SUMMARY:Hidden Treasures Gallery #3008
LOCATION:1210 Cold Springs Rd\, P/U: 3/1 *8-10a & 3-6p\, Stuarts Draft\,
  VA 24477\, US
DESCRIPTION:DJI Phantom 3 Drone\, Stacking Cups\, Toddle Toys\, Rustic Furn
 iture\, Tools\, Gameboy\, Apple Watch and more great items!
URL:https://www.enlistedauctions.com/auctions/detail/bw96415
SEQUENCE:1
END:VEVENT
END:VCALENDAR