BEGIN:VCALENDAR
VERSION:2.0
PRODID:-//ExpressionEngine Easy iCalendar plugin//NONSGML v2.0.1//EN
X-WR-TIMEZONE:America/New_York
X-WR-CALNAME:Upcoming Auctions
BEGIN:VEVENT
UID:90465
DTSTAMP:20221012T000000
DTSTART:20221012T000000
DTEND:20221024T200000
SUMMARY:Storage Building | Carport
LOCATION:Gladstone\, Gladstone\, VA 24553\, US
DESCRIPTION:Bid your price for a carport or a storage building!
URL:https://www.enlistedauctions.com/auctions/detail/bw90465
SEQUENCE:1
END:VEVENT
END:VCALENDAR