BEGIN:VCALENDAR
VERSION:2.0
PRODID:-//ExpressionEngine Easy iCalendar plugin//NONSGML v2.0.1//EN
X-WR-TIMEZONE:America/New_York
X-WR-CALNAME:Upcoming Auctions
BEGIN:VEVENT
UID:87638
DTSTAMP:20220823T000000
DTSTART:20220823T000000
DTEND:20220906T200000
SUMMARY:Cold Springs Gallery
LOCATION:1210 Cold Springs Rd\, P/U: 9/7 *8-10a & 3-6p\, Stuarts Draft\,
  VA 24477\, US
DESCRIPTION:LOCATION: 1210 Cold Springs Rd\, Stuarts Draft\, Va\, 24477 PRE
 VIEW: Any Tuesday from 3 PM to 6 PM or any Wednesday from 8 
 AM to 10 AM or 3 PM to 6 PM PICKUP: Wednesday\, September 7\, 
 from 8 AM to 10 AM or 3 PM to 6 PM. CONTACT: Office (540) 33
 7-3446\, info@enlistedauctions.com Buyer's Premium: 10% All i
 tems are sold AS IS with no warranties expressed or implied 
 Shipping is available. Buyer pays shipping and handling. Ite
 ms shipped through UPS. Items not claimed by the end of the 
 scheduled pickup times will be charged a $5 alternate pickup
  fee.
URL:https://www.enlistedauctions.com/auctions/detail/bw87638
SEQUENCE:1
END:VEVENT
END:VCALENDAR