BEGIN:VCALENDAR
VERSION:2.0
PRODID:-//ExpressionEngine Easy iCalendar plugin//NONSGML v2.0.0//EN
X-WR-TIMEZONE:America/New_York
X-WR-CALNAME:Upcoming Auctions
BEGIN:VEVENT
UID:87556
DTSTAMP:20220822T000000
DTSTART:20220822T000000
DTEND:20220921T130000
SUMMARY:3BR/2BA Home in Waynesboro\, VA
LOCATION:49 Woodside Dr\, Waynesboro\, VA 22980\, US
DESCRIPTION:The seller's are moving to a retirement home and providing y
 ou the opportunity to bid on this 3br/2ba single level home 
 in Augusta County! 49 Woodside Dr\, Waynesboro\, Va
URL:https://www.enlistedauctions.com/auctions/detail/bw87556
SEQUENCE:1
END:VEVENT
END:VCALENDAR