BEGIN:VCALENDAR
VERSION:2.0
PRODID:-//ExpressionEngine Easy iCalendar plugin//NONSGML v2.0.1//EN
X-WR-TIMEZONE:America/New_York
X-WR-CALNAME:Upcoming Auctions
BEGIN:VEVENT
UID:87351
DTSTAMP:20220817T000000
DTSTART:20220817T000000
DTEND:20220829T200000
SUMMARY:Private Train Collection
LOCATION:2177 Tinkling Spring Rd\, P/U: 8/30 *8-10A & 3-6P\, Stuarts Dr
 aft\, VA 24477\, US
DESCRIPTION:Bid on trains from this large personal collection. Lionel en
 gines and cars\, K-Line\, MTH and others!
URL:https://www.enlistedauctions.com/auctions/detail/bw87351
SEQUENCE:1
END:VEVENT
END:VCALENDAR