BEGIN:VCALENDAR
VERSION:2.0
PRODID:-//ExpressionEngine Easy iCalendar plugin//NONSGML v2.0.0//EN
X-WR-TIMEZONE:America/New_York
X-WR-CALNAME:Upcoming Auctions
BEGIN:VEVENT
UID:80626
DTSTAMP:20220512T171500
DTSTART:20220512T171500
DTEND:20220525T200000
SUMMARY:Antique Vehicles
LOCATION:1210 Cold Springs Rd\, Stuarts Draft\, VA 24477\, US
DESCRIPTION:Preview: Any Tuesday from 8-11 AM or 2-6 PM or By Appointmen
 t Pickup: By Appointment (Within 7 days of auction ending)
URL:https://www.enlistedauctions.com/auctions/detail/bw80626
SEQUENCE:1
END:VEVENT
END:VCALENDAR