BEGIN:VCALENDAR
VERSION:2.0
PRODID:-//ExpressionEngine Easy iCalendar plugin//NONSGML v2.0.1//EN
X-WR-TIMEZONE:America/New_York
X-WR-CALNAME:Upcoming Auctions
BEGIN:VEVENT
UID:59640
DTSTAMP:20210128T112900
DTSTART:20210128T112900
DTEND:20210204T200000
SUMMARY:Delinquent Storage Units
LOCATION:1430 Eastside Hwy\, Wayesboro\, VA 22980\, US
DESCRIPTION:Crimora Mini Storage is selling (2) delinquent storage units
  at 1430 Eastside Hwy\, Crimora\, Va. via online auction. PREV
 IEW: Thurs. Feb. 4 at 4:30 PM $50 Refundable Cleanout Deposi
 t
URL:https://www.enlistedauctions.com/auctions/detail/bw59640
SEQUENCE:1
END:VEVENT
END:VCALENDAR