BEGIN:VCALENDAR
VERSION:2.0
PRODID:-//ExpressionEngine Easy iCalendar plugin//NONSGML v2.0.0//EN
X-WR-TIMEZONE:America/New_York
X-WR-CALNAME:Upcoming Auctions
BEGIN:VEVENT
UID:156289
DTSTAMP:20260202T120000
DTSTART:20260202T120000
DTEND:20260216T200000
SUMMARY:Hidden Treasures Gallery #3159
LOCATION:1210 Cold Springs Rd\, Stuarts Draft\, VA 24477\, US
DESCRIPTION:Online auction with Whitetail taxidermy bucks\, Pokémon & NF
 L cards\, blueprint cabinet\, a mini bike\, commercial kitchen 
 items\, furniture\, Nascar collectibles\, knives and other uniq
 ue items! Bid your price! 
URL:https://www.enlistedauctions.com/auctions/detail/bw156289
SEQUENCE:1
END:VEVENT
END:VCALENDAR