BEGIN:VCALENDAR
VERSION:2.0
PRODID:-//ExpressionEngine Easy iCalendar plugin//NONSGML v2.0.0//EN
X-WR-TIMEZONE:America/New_York
X-WR-CALNAME:Upcoming Auctions
BEGIN:VEVENT
UID:154906
DTSTAMP:20260112T120000
DTSTART:20260112T120000
DTEND:20260204T200000
SUMMARY:Firearms - January 2026
LOCATION:2400 Stuarts Draft Hwy\, Stuarts Draft\, VA 24477\, US
DESCRIPTION:Fantastic online firearms auction featuring over 290 firearm
 s! Highlights include multiple Browning Citori shotguns\, Bro
 wning X-Bolt rifles in a variety of calibers\, and ARs from P
 almetto State Armory (PSA)\, Christensen Arms\, and Daniel Def
 ense. Handgun buyers will find an excellent selection of Rug
 er revolvers and pistols from Sig Sauer\, Kimber\, Glock\, Smit
 h & Wesson\, Colt\, and Walther. From safari-ready big game ri
 fles to range guns\, hunting firearms\, and defensive pistols\,
  this auction offers something for every shooter and collect
 or.
URL:https://www.enlistedauctions.com/auctions/detail/bw154906
SEQUENCE:1
END:VEVENT
END:VCALENDAR