BEGIN:VCALENDAR
VERSION:2.0
PRODID:-//ExpressionEngine Easy iCalendar plugin//NONSGML v2.0.0//EN
X-WR-TIMEZONE:America/Indiana/Indianapolis
X-WR-CALNAME:Upcoming Auctions
BEGIN:VEVENT
UID:154665
DTSTAMP:20260107T120000
DTSTART:20260107T120000
DTEND:20260120T200000
SUMMARY:Cold Springs Gallery #4156
LOCATION:1210 Cold Springs Rd\, Stuarts Draft\, VA 24477\, US
DESCRIPTION:Large online auction with jewelry\, vintage signage\, precisio
 n honing machine\, Sheldon metal lathe\, vintage pressed steel
  toys and decorative glassware! There is a nice variety of i
 tems for the shop to the house so be sure to scroll through 
 and see everything! 
URL:https://www.enlistedauctions.com/auctions/detail/bw154665
SEQUENCE:1
END:VEVENT
END:VCALENDAR