BEGIN:VCALENDAR
VERSION:2.0
PRODID:-//ExpressionEngine Easy iCalendar plugin//NONSGML v2.0.0//EN
X-WR-TIMEZONE:America/New_York
X-WR-CALNAME:Upcoming Auctions
BEGIN:VEVENT
UID:154455
DTSTAMP:20260102T120000
DTSTART:20260102T120000
DTEND:20260112T200000
SUMMARY:Blue Ridge Gallery #1155
LOCATION:2400 Stuarts Draft Hwy\, Stuarts Draft\, VA 24477\, US
DESCRIPTION:Our sellers have moved to a retirement home and are selling 
 everything! Hand stitched quilts\, furniture\, vinyl records\, 
 Pampered Chef dishes\, Rada knives and sewing supplies are a 
 few of the items from this Augusta Co. home. Bid with confid
 ence and take home new to you items! 
URL:https://www.enlistedauctions.com/auctions/detail/bw154455
SEQUENCE:1
END:VEVENT
END:VCALENDAR