BEGIN:VCALENDAR
VERSION:2.0
PRODID:-//ExpressionEngine Easy iCalendar plugin//NONSGML v2.0.0//EN
X-WR-TIMEZONE:America/New_York
X-WR-CALNAME:Upcoming Auctions
BEGIN:VEVENT
UID:153943
DTSTAMP:20251219T120000
DTSTART:20251219T120000
DTEND:20260105T200000
SUMMARY:Burial Plots - Augusta Memorial Park
LOCATION:1775 Old Goose Crek Rd\, Waynesboro\, VA 22980\, US
DESCRIPTION:2 burial plots at Augusta Memorial park in Fishersville\, VA 
 are being sold at public auction! Here is your opportunity t
 o purchase 2 spaces at prices that are to die for. High bid 
 wins - no reserves. 
URL:https://www.enlistedauctions.com/auctions/detail/bw153943
SEQUENCE:1
END:VEVENT
END:VCALENDAR