BEGIN:VCALENDAR
VERSION:2.0
PRODID:-//ExpressionEngine Easy iCalendar plugin//NONSGML v2.0.0//EN
X-WR-TIMEZONE:America/Indiana/Indianapolis
X-WR-CALNAME:Upcoming Auctions
BEGIN:VEVENT
UID:153891
DTSTAMP:20251219T120000
DTSTART:20251219T120000
DTEND:20260113T200000
SUMMARY:Cold Springs Gallery #4155
LOCATION:1210 Cold Springs Rd\, Stuarts Draft\, VA 24477\, US
DESCRIPTION:Online auction with an electric bike\, Fenton glass\, Stihl an
 d Echo chainsaws\, antique Staunton\, VA druggist glass bottle
 s\, woodworking tools\, furniture for the living and dining ro
 oms and even a bedframe for the bedroom! These items are fro
 m local Augusta Co. estates and sell to the highest bidders.
  
URL:https://www.enlistedauctions.com/auctions/detail/bw153891
SEQUENCE:1
END:VEVENT
END:VCALENDAR