BEGIN:VCALENDAR
VERSION:2.0
PRODID:-//ExpressionEngine Easy iCalendar plugin//NONSGML v2.0.0//EN
X-WR-TIMEZONE:America/Indiana/Indianapolis
X-WR-CALNAME:Upcoming Auctions
BEGIN:VEVENT
UID:153808
DTSTAMP:20251217T120000
DTSTART:20251217T120000
DTEND:20260106T200000
SUMMARY:Cold Springs Gallery #4154
LOCATION:1210 Cold Springs Rd\, Stuarts Draft\, VA 24477\, US
DESCRIPTION:Vintage toys\, furniture\, a vintage Michael Jordan T-shirt\, t
 ools\, rustic and modern decorations along with many more ite
 ms are up for auction! Bid your price and win! 
URL:https://www.enlistedauctions.com/auctions/detail/bw153808
SEQUENCE:1
END:VEVENT
END:VCALENDAR