BEGIN:VCALENDAR
VERSION:2.0
PRODID:-//ExpressionEngine Easy iCalendar plugin//NONSGML v2.0.0//EN
X-WR-TIMEZONE:America/Indiana/Indianapolis
X-WR-CALNAME:Upcoming Auctions
BEGIN:VEVENT
UID:153475
DTSTAMP:20251210T120000
DTSTART:20251210T120000
DTEND:20251230T200000
SUMMARY:Cold Springs Gallery #4153
LOCATION:1210 Cold Springs Rd\, Stuarts Draft\, VA 24477\, US
DESCRIPTION:A nice collection of personal property up for auction! P. Bu
 ckley Moss prints\, Virginia Metalcrafters\, Longaberger baske
 ts\, vintage Nintendo and Sega games and gaming consoles alon
 g with Game of Thrones DVD sets and tools! 
URL:https://www.enlistedauctions.com/auctions/detail/bw153475
SEQUENCE:1
END:VEVENT
END:VCALENDAR