BEGIN:VCALENDAR
VERSION:2.0
PRODID:-//ExpressionEngine Easy iCalendar plugin//NONSGML v2.0.0//EN
X-WR-TIMEZONE:America/New_York
X-WR-CALNAME:Upcoming Auctions
BEGIN:VEVENT
UID:153269
DTSTAMP:20251208T120000
DTSTART:20251208T120000
DTEND:20251222T200000
SUMMARY:Blue Ridge Gallery #1153
LOCATION:2400 Stuarts Draft Hwy\, Stuarts Draft\, VA 24477\, US
DESCRIPTION:Large Augusta County estate auction featuring milk bottles f
 rom local farms\, signs\, Virginia Metalcrafter items\, pedal t
 ractor\, large gun safe\, Christmas lights\, tools\, Tonka and N
 ylint toys along with many other items! Over 750 lots to bid
  for and everything sells regardless of price! 
URL:https://www.enlistedauctions.com/auctions/detail/bw153269
SEQUENCE:1
END:VEVENT
END:VCALENDAR