BEGIN:VCALENDAR
VERSION:2.0
PRODID:-//ExpressionEngine Easy iCalendar plugin//NONSGML v2.0.0//EN
X-WR-TIMEZONE:America/New_York
X-WR-CALNAME:Upcoming Auctions
BEGIN:VEVENT
UID:153228
DTSTAMP:20251205T120000
DTSTART:20251205T120000
DTEND:20251216T200000
SUMMARY:Coins and Currency #5152
LOCATION:1210 Cold Springs Rd\, Stuarts Draft\, VA 24477\, US
DESCRIPTION:Coins and currency are up for auction. Gold and silver coins
 \, graded and ungraded coinage along with paper currency are
  all selling to the highest bidders! Shipping is available. 
 Bid your price with confidence. 
URL:https://www.enlistedauctions.com/auctions/detail/bw153228
SEQUENCE:1
END:VEVENT
END:VCALENDAR