BEGIN:VCALENDAR
VERSION:2.0
PRODID:-//ExpressionEngine Easy iCalendar plugin//NONSGML v2.0.0//EN
X-WR-TIMEZONE:America/New_York
X-WR-CALNAME:Upcoming Auctions
BEGIN:VEVENT
UID:153218
DTSTAMP:20251207T120000
DTSTART:20251207T120000
DTEND:20251216T200000
SUMMARY:Fine Jewelry and Collectibles Auction
LOCATION:1210 Cold Springs Rd\, Stuarts Draft\, VA 24477\, US
DESCRIPTION:Fine jewelry including diamond rings\, necklaces\, wrist watch
 es and pocket watches are being sold at online auction with 
 no reserve! Bid for 10K\, 14K and 18K gold along with sterlin
 g silver\, watches from Citizen\, Omega and Seiko along with a
 ntique pocket watches! Shipping is available so bid your pri
 ce and win a gift for that special someone (or yourself) j
 ust in time for Christmas! 
URL:https://www.enlistedauctions.com/auctions/detail/bw153218
SEQUENCE:1
END:VEVENT
END:VCALENDAR