BEGIN:VCALENDAR
VERSION:2.0
PRODID:-//ExpressionEngine Easy iCalendar plugin//NONSGML v2.0.0//EN
X-WR-TIMEZONE:America/New_York
X-WR-CALNAME:Upcoming Auctions
BEGIN:VEVENT
UID:153188
DTSTAMP:20251205T110000
DTSTART:20251205T110000
DTEND:20260114T130000
SUMMARY:Waynesboro Real Estate Auction
LOCATION:904 Dogwood Circle\, Waynesboro\, VA 22980\, US
DESCRIPTION:One-owner 4 bed\, 2 bath brick split-level in Waynesboro. Fi
 rst time offered. Well cared for with new roof and heat pump
 \, hardwood floors\, spacious kitchen\, and a cozy basement wit
 h wood stove. Minutes from I-64 and Route 340. Selling at on
 line auction.
URL:https://www.enlistedauctions.com/auctions/detail/bw153188
SEQUENCE:1
END:VEVENT
END:VCALENDAR