BEGIN:VCALENDAR
VERSION:2.0
PRODID:-//ExpressionEngine Easy iCalendar plugin//NONSGML v2.0.0//EN
X-WR-TIMEZONE:America/Indiana/Indianapolis
X-WR-CALNAME:Upcoming Auctions
BEGIN:VEVENT
UID:153074
DTSTAMP:20251202T120000
DTSTART:20251202T120000
DTEND:20251216T200000
SUMMARY:Cold Springs Gallery #2152
LOCATION:1210 Cold Springs Rd\, Stuarts Draft\, VA 24477\, US
DESCRIPTION:Online auction featuring tools\, an air compressor\, Exmark ze
 ro-turn mower\, lamps\, Lenox glassware\, leather furniture\, a 
 vintage sofa\, and more household and shop items. Bid your pr
 ice! 
URL:https://www.enlistedauctions.com/auctions/detail/bw153074
SEQUENCE:1
END:VEVENT
END:VCALENDAR