BEGIN:VCALENDAR
VERSION:2.0
PRODID:-//ExpressionEngine Easy iCalendar plugin//NONSGML v2.0.0//EN
X-WR-TIMEZONE:America/Indiana/Indianapolis
X-WR-CALNAME:Upcoming Auctions
BEGIN:VEVENT
UID:152694
DTSTAMP:20251124T120000
DTSTART:20251124T120000
DTEND:20251209T200000
SUMMARY:Cold Springs Gallery #2151
LOCATION:1210 Cold Springs Rd\, Stuarts Draft\, VA 24477\, US
DESCRIPTION:Fantastic Christmas items including Swarovski crystal orname
 nts\, German nutcrackers\, Department 56 houses & ornaments al
 ong with furniture\, outdoor lawn equipment and tools for the
  shop. Bid your price and snag a Christmas gift they'll be s
 ure to remember!
URL:https://www.enlistedauctions.com/auctions/detail/bw152694
SEQUENCE:1
END:VEVENT
END:VCALENDAR