BEGIN:VCALENDAR
VERSION:2.0
PRODID:-//ExpressionEngine Easy iCalendar plugin//NONSGML v2.0.0//EN
X-WR-TIMEZONE:America/Indiana/Indianapolis
X-WR-CALNAME:Upcoming Auctions
BEGIN:VEVENT
UID:152693
DTSTAMP:20251124T120000
DTSTART:20251124T120000
DTEND:20251209T194500
SUMMARY:Hidden Treasures Gallery #3151
LOCATION:1210 Cold Springs Rd\, Stuarts Draft\, VA 24477\, US
DESCRIPTION:Online auction featuring a Cannon gun safe\, barrister bookca
 se\, blow mold nativity figurines\, vinyl records\, jewelry & C
 hristmas items! Bid your price - it all sells regardless of 
 price! 
URL:https://www.enlistedauctions.com/auctions/detail/bw152693
SEQUENCE:1
END:VEVENT
END:VCALENDAR