BEGIN:VCALENDAR
VERSION:2.0
PRODID:-//ExpressionEngine Easy iCalendar plugin//NONSGML v2.0.0//EN
X-WR-TIMEZONE:America/New_York
X-WR-CALNAME:Upcoming Auctions
BEGIN:VEVENT
UID:152584
DTSTAMP:20251120T120000
DTSTART:20251120T120000
DTEND:20251208T200000
SUMMARY:Fishersville Estate Liquidation
LOCATION:110 Joy Ln\, Fishersville\, VA 22939\, US
DESCRIPTION:This estate features a nice variety of quality items from ev
 ery day use to collector quality. Rainbow vacuum along with 
 Ivory Tupilak figurines\, UVA items\, leather bound books\, bar
 rister bookcase and other items. The seller was an avid Alas
 kan visitor / tourist and his estate features many unique it
 ems! 
URL:https://www.enlistedauctions.com/auctions/detail/bw152584
SEQUENCE:1
END:VEVENT
END:VCALENDAR