BEGIN:VCALENDAR
VERSION:2.0
PRODID:-//ExpressionEngine Easy iCalendar plugin//NONSGML v2.0.0//EN
X-WR-TIMEZONE:America/New_York
X-WR-CALNAME:Upcoming Auctions
BEGIN:VEVENT
UID:151628
DTSTAMP:20251105T120000
DTSTART:20251105T120000
DTEND:20251118T200000
SUMMARY:Coins and Currency #5148
LOCATION:1210 Cold Springs Rd\, Stuarts Draft\, VA 24477\, US
DESCRIPTION:Coin and currency are up for auction. Graded and ungraded co
 ins\, tokens and paper currency are all selling to the highes
 t bidders! Shipping is available. Bid your price with confid
 ence. 
URL:https://www.enlistedauctions.com/auctions/detail/bw151628
SEQUENCE:1
END:VEVENT
END:VCALENDAR