BEGIN:VCALENDAR
VERSION:2.0
PRODID:-//ExpressionEngine Easy iCalendar plugin//NONSGML v2.0.0//EN
X-WR-TIMEZONE:America/New_York
X-WR-CALNAME:Upcoming Auctions
BEGIN:VEVENT
UID:151422
DTSTAMP:20251031T141700
DTSTART:20251031T141700
DTEND:20251117T200000
SUMMARY:Tinkling Spring Gallery #248
LOCATION:2177 Tinkling Spring Rd\, Stuarts Draft\, VA 24477\, US
DESCRIPTION:Virginia Metalcrafter items\, leather sofas\, electric lift ch
 air\, tools for the lawn & dishes for the kitchen! Items from
  Shenandoah Valley estates are up for auction. 
URL:https://www.enlistedauctions.com/auctions/detail/bw151422
SEQUENCE:1
END:VEVENT
END:VCALENDAR