BEGIN:VCALENDAR
VERSION:2.0
PRODID:-//ExpressionEngine Easy iCalendar plugin//NONSGML v2.0.0//EN
X-WR-TIMEZONE:America/New_York
X-WR-CALNAME:Upcoming Auctions
BEGIN:VEVENT
UID:151420
DTSTAMP:20251031T141200
DTSTART:20251031T141200
DTEND:20251124T200000
SUMMARY:*Offsite* Office Liquidation
LOCATION:100 Red Oaks DR \, Staunton\, VA 24401\, US
DESCRIPTION:Office liquidation! Chairs\, tables\, Ikea furniture\, Laptops 
 from Apple and HP\, printers\, cabinets & other essential offi
 ce items. Bid your price - it all sells. 
URL:https://www.enlistedauctions.com/auctions/detail/bw151420
SEQUENCE:1
END:VEVENT
END:VCALENDAR