BEGIN:VCALENDAR
VERSION:2.0
PRODID:-//ExpressionEngine Easy iCalendar plugin//NONSGML v2.0.0//EN
X-WR-TIMEZONE:America/Indiana/Indianapolis
X-WR-CALNAME:Upcoming Auctions
BEGIN:VEVENT
UID:151274
DTSTAMP:20251029T162500
DTSTART:20251029T162500
DTEND:20251111T200000
SUMMARY:Cold Springs Gallery #2147
LOCATION:1210 Cold Springs Rd\, Stuarts Draft\, VA 24477\, US
DESCRIPTION:The Suggs "Wagon Man" Estate auction Part III is open for bi
 dding! Over 700 lots of antiques and collectibles. Ranging f
 rom implement seats\, tobacco advertisement busts and signs\, 
 gold and sterling silver jewelry\, framed paintings and print
 s to wagon parts and accessories. Everything sells regardles
 s of price! 
URL:https://www.enlistedauctions.com/auctions/detail/bw151274
SEQUENCE:1
END:VEVENT
END:VCALENDAR