BEGIN:VCALENDAR
VERSION:2.0
PRODID:-//ExpressionEngine Easy iCalendar plugin//NONSGML v2.0.0//EN
X-WR-TIMEZONE:America/New_York
X-WR-CALNAME:Upcoming Auctions
BEGIN:VEVENT
UID:149557
DTSTAMP:20251002T120700
DTSTART:20251002T120700
DTEND:20251015T200000
SUMMARY:Ammo and Accessories #5243
LOCATION:2177 Tinkling Spring Rd\, Stuarts Draft\, VA 24477\, US
DESCRIPTION:Huge ammo and accessory auction with a wide variety of items
 ! New crossbows\, taxidermy mounts\, camo vests\, optics\, and a
 mmunition in common and hard to find calibers. Everything se
 lls to the highest bidders with no minimums! 
URL:https://www.enlistedauctions.com/auctions/detail/bw149557
SEQUENCE:1
END:VEVENT
END:VCALENDAR