BEGIN:VCALENDAR
VERSION:2.0
PRODID:-//ExpressionEngine Easy iCalendar plugin//NONSGML v2.0.0//EN
X-WR-TIMEZONE:America/New_York
X-WR-CALNAME:Upcoming Auctions
BEGIN:VEVENT
UID:149554
DTSTAMP:20251009T114900
DTSTART:20251009T114900
DTEND:20251020T200000
SUMMARY:Tinkling Spring Gallery #244
LOCATION:2177 Tinkling Spring Rd\, Stuarts Draft\, VA 24477\, US
DESCRIPTION:Leather furniture\, framed prints\, antiques and modern pieces
 \, Jim Shore figurines and Staunton\, VA collectibles! Update 
 your space with brand new auction finds! 
URL:https://www.enlistedauctions.com/auctions/detail/bw149554
SEQUENCE:1
END:VEVENT
END:VCALENDAR