BEGIN:VCALENDAR
VERSION:2.0
PRODID:-//ExpressionEngine Easy iCalendar plugin//NONSGML v2.0.0//EN
X-WR-TIMEZONE:America/Indiana/Indianapolis
X-WR-CALNAME:Upcoming Auctions
BEGIN:VEVENT
UID:149240
DTSTAMP:20250929T134600
DTSTART:20250929T134600
DTEND:20251007T194500
SUMMARY:Hidden Treasures Gallery #3142
LOCATION:1210 Cold Springs Rd\, Stuarts Draft\, VA 24477\, US
DESCRIPTION:Hobart mixer\, Hi-Boy dresser\, adjustable queen bed\, welder\, 
 original canvas paintings\, craftsman table saw & hens on a n
 est. Bid your price! 
URL:https://www.enlistedauctions.com/auctions/detail/bw149240
SEQUENCE:1
END:VEVENT
END:VCALENDAR