BEGIN:VCALENDAR
VERSION:2.0
PRODID:-//ExpressionEngine Easy iCalendar plugin//NONSGML v2.0.0//EN
X-WR-TIMEZONE:America/Indiana/Indianapolis
X-WR-CALNAME:Upcoming Auctions
BEGIN:VEVENT
UID:147877
DTSTAMP:20250908T073900
DTSTART:20250908T073900
DTEND:20250916T194500
SUMMARY:Hidden Treasures Gallery #3139
LOCATION:1210 Cold Springs Rd\, Stuarts Draft\, VA 24477\, US
DESCRIPTION:Luxury massage chair\, original paintings\, pool cover for the
  winter along with tools and rustic decor for the house! Bid
  your price and go home a winner! 
URL:https://www.enlistedauctions.com/auctions/detail/bw147877
SEQUENCE:1
END:VEVENT
END:VCALENDAR