BEGIN:VCALENDAR
VERSION:2.0
PRODID:-//ExpressionEngine Easy iCalendar plugin//NONSGML v2.0.0//EN
X-WR-TIMEZONE:America/New_York
X-WR-CALNAME:Upcoming Auctions
BEGIN:VEVENT
UID:147790
DTSTAMP:20250908T215600
DTSTART:20250908T215600
DTEND:20250922T200000
SUMMARY:Coins and Jewelry #5140
LOCATION:2177 Tinkling Spring Rd\, Stuarts Draft\, VA 24477\, US
DESCRIPTION:Fantastic coin and jewelry auction! Gold\, pearls and sterli
 ng silver jewelry with a wide variety of designs. Also grade
 d and raw coins for your bidding pleasure! 
URL:https://www.enlistedauctions.com/auctions/detail/bw147790
SEQUENCE:1
END:VEVENT
END:VCALENDAR