BEGIN:VCALENDAR
VERSION:2.0
PRODID:-//ExpressionEngine Easy iCalendar plugin//NONSGML v2.0.0//EN
X-WR-TIMEZONE:America/New_York
X-WR-CALNAME:Upcoming Auctions
BEGIN:VEVENT
UID:147750
DTSTAMP:20250904T155300
DTSTART:20250904T155300
DTEND:20250915T200000
SUMMARY:Tinkling Spring Gallery #239
LOCATION:2177 Tinkling Spring Rd\, Stuarts Draft\, VA 24477\, US
DESCRIPTION:Antique pie safe\, Department 56 houses\, La-Z-Boy sectional s
 ofa\, framed Civil War prints\, tools\, Hot Wheels redline cars
  and more! Everything sells regardless of price.
URL:https://www.enlistedauctions.com/auctions/detail/bw147750
SEQUENCE:1
END:VEVENT
END:VCALENDAR