BEGIN:VCALENDAR
VERSION:2.0
PRODID:-//ExpressionEngine Easy iCalendar plugin//NONSGML v2.0.0//EN
X-WR-TIMEZONE:America/New_York
X-WR-CALNAME:Upcoming Auctions
BEGIN:VEVENT
UID:147253
DTSTAMP:20250827T113600
DTSTART:20250827T113600
DTEND:20250908T200000
SUMMARY:Tinkling Spring Gallery #238
LOCATION:2177 Tinkling Spring Rd\, Stuarts Draft\, VA 24477\, US
DESCRIPTION:Ride on children's toys\, vintage advertisement signs\, glassw
 are and decorations along with antique tin toys and framed p
 rints to liven up your space! High bid wins. 
URL:https://www.enlistedauctions.com/auctions/detail/bw147253
SEQUENCE:1
END:VEVENT
END:VCALENDAR