BEGIN:VCALENDAR
VERSION:2.0
PRODID:-//ExpressionEngine Easy iCalendar plugin//NONSGML v2.0.0//EN
X-WR-TIMEZONE:America/New_York
X-WR-CALNAME:Upcoming Auctions
BEGIN:VEVENT
UID:146877
DTSTAMP:20250821T113100
DTSTART:20250821T113100
DTEND:20250901T200000
SUMMARY:Tinkling Spring Gallery #237
LOCATION:2177 Tinkling Spring Rd\, Stuarts Draft\, VA 24477\, US
DESCRIPTION:LOCATION: 2177 Tinkling Spring Rd\, Stuarts Draft\, VA 24477 
 PREVIEW: Any Monday from 3 PM - 6 PM (LABOR DAY from 4 PM t
 o 6 PM) or any Tuesday from 8 AM - 10 AM & 3 PM - 6 PM. PIC
 KUP: Tuesday\, Sept. 2nd \, 2025\, from 8 AM - 10 AM and 3 PM
  - 6 PM Contact: Office\, (540) 337-3446\, info@enlistedauctio
 ns.com Buyer's Premium: 10% 3% card processing fee Shipping 
 is available. Items are shipped through UPS\, zip code is 244
 77. Contact shipping@enlistedauctions.com for shipping. All 
 items are sold AS IS with no warranties expresses or implied
  Items not claimed by the end of the scheduled pickup times 
 will be charged a $5 alternate pickup fee. Larger items wil
 l be subject to an additional storage fee.
URL:https://www.enlistedauctions.com/auctions/detail/bw146877
SEQUENCE:1
END:VEVENT
END:VCALENDAR