BEGIN:VCALENDAR
VERSION:2.0
PRODID:-//ExpressionEngine Easy iCalendar plugin//NONSGML v2.0.0//EN
X-WR-TIMEZONE:America/New_York
X-WR-CALNAME:Upcoming Auctions
BEGIN:VEVENT
UID:146773
DTSTAMP:20250822T042700
DTSTART:20250822T042700
DTEND:20250902T200000
SUMMARY:Coins and Currency #5137
LOCATION:1210 Cold Springs Rd\, Stuarts Draft\, VA 24477\, US
DESCRIPTION:Fantastic coin auction with multiple gold coins\, a Morgan CC
 \, Silver Eagles\, Peace Dollars and other highly desirable n
 umismatics. Bid your price! 
URL:https://www.enlistedauctions.com/auctions/detail/bw146773
SEQUENCE:1
END:VEVENT
END:VCALENDAR